BEGIN:VCALENDAR
VERSION:2.0
PRODID:-//eventon.com NONSGML v1.0//EN
CALSCALE:GREGORIAN
METHOD:PUBLISH
BEGIN:VEVENT
UID:69e69e70b77c9
DTSTAMP:20260420T214520Z
DTSTART:20230105T150000Z
DTEND:20230105T180000Z
LOCATION:VIALE SAN MARTINO
SUMMARY:EMOZIONI IN FIABA ON THE ROAD
DESCRIPTION:\nhttps://eventi.comune.messina.it/events/emozioni-in-fiaba-in-
 the-road/
URL:https://eventi.comune.messina.it/events/emozioni-in-fiaba-in-the-road/
END:VEVENT
END:VCALENDAR