BEGIN:VCALENDAR
VERSION:2.0
PRODID:-//eventon.com NONSGML v1.0//EN
CALSCALE:GREGORIAN
METHOD:PUBLISH
BEGIN:VEVENT
UID:69e4c982d4893
DTSTAMP:20260419T122434Z
DTSTART:20231015T073000Z
DTEND:20231015T183000Z
LOCATION:
SUMMARY:Giochi senza Quartiere
DESCRIPTION:Tornei di palla a scalpo\,  corsa al quadrato\,  corsa con i sa
 cchi\,  tiro alla fune\,  freccette\,  basket – tiri da 3\,  calcio balil
 la\,  sitting volley\,  padel\,  scacchiera gigante; mentre nella fase fina
 le\,  oltre ai giochi già elencati\,  si aggiungeranno anche i tornei di b
 ubble football\,  tennis e nuoto a staffetta.\nhttps://eventi.comune.messin
 a.it/events/giochi-senza-quartiere-6/
URL:https://eventi.comune.messina.it/events/giochi-senza-quartiere-6/
END:VEVENT
END:VCALENDAR