BEGIN:VCALENDAR
VERSION:2.0
PRODID:-//eventon.com NONSGML v1.0//EN
CALSCALE:GREGORIAN
METHOD:PUBLISH
BEGIN:VEVENT
UID:69e63427e63a0
DTSTAMP:20260420T141151Z
DTSTART:20251227T200000Z
DTEND:20251227T225900Z
LOCATION:PIAZZA DUOMO
SUMMARY:Irama
DESCRIPTION:\nhttps://eventi.comune.messina.it/events/irama/
URL:https://eventi.comune.messina.it/events/irama/
END:VEVENT
END:VCALENDAR