BEGIN:VCALENDAR
VERSION:2.0
PRODID:-//eventon.com NONSGML v1.0//EN
CALSCALE:GREGORIAN
METHOD:PUBLISH
BEGIN:VEVENT
UID:69eb5f93c8a56
DTSTAMP:20260424T121827Z
DTSTART:20260424T150700Z
DTEND:20260425T150700Z
LOCATION:Palarescifina Messina
SUMMARY:GIGI
DESCRIPTION:D&#8217;Alessio\nhttps://eventi.comune.messina.it/events/gigi/
URL:https://eventi.comune.messina.it/events/gigi/
END:VEVENT
END:VCALENDAR