BEGIN:VCALENDAR
VERSION:2.0
PRODID:-//eventon.com NONSGML v1.0//EN
CALSCALE:GREGORIAN
METHOD:PUBLISH
BEGIN:VEVENT
UID:69e61133b20b8
DTSTAMP:20260420T114243Z
DTSTART:20221218T180000Z
DTEND:20221218T215900Z
LOCATION:CHIESA SANTA MARIA DELLA LETTERA - GALATI MARINA
SUMMARY:CONCERTO MUSICHE NATALIZIE ENSAMBLE MACRAME'
DESCRIPTION:\nhttps://eventi.comune.messina.it/events/concerto-musiche-nata
 lizie-ensamble-macrame/
URL:https://eventi.comune.messina.it/events/concerto-musiche-natalizie-ensamble-macrame/
END:VEVENT
END:VCALENDAR