BEGIN:VCALENDAR
VERSION:2.0
PRODID:-//eventon.com NONSGML v1.0//EN
CALSCALE:GREGORIAN
METHOD:PUBLISH
BEGIN:VEVENT
UID:69e73669a36c7
DTSTAMP:20260421T083345Z
DTSTART:20221230
DTEND:20221231
LOCATION:SANTO STEFANO MEDIO - MEZZANO
SUMMARY:PRESEPE VIVENTE
DESCRIPTION:\nhttps://eventi.comune.messina.it/events/presepe-vivente-4/
URL:https://eventi.comune.messina.it/events/presepe-vivente-4/
END:VEVENT
END:VCALENDAR